BEGIN:VCALENDAR
VERSION:2.0
PRODID:-//Foundation Academy - ECPv5.16.4//NONSGML v1.0//EN
CALSCALE:GREGORIAN
METHOD:PUBLISH
X-WR-CALNAME:Foundation Academy
X-ORIGINAL-URL:https://foundationacad.org
X-WR-CALDESC:Events for Foundation Academy
BEGIN:VTIMEZONE
TZID:America/New_York
BEGIN:DAYLIGHT
TZOFFSETFROM:-0500
TZOFFSETTO:-0400
TZNAME:EDT
DTSTART:20250309T070000
END:DAYLIGHT
BEGIN:STANDARD
TZOFFSETFROM:-0400
TZOFFSETTO:-0500
TZNAME:EST
DTSTART:20251102T060000
END:STANDARD
END:VTIMEZONE
BEGIN:VEVENT
DTSTART;VALUE=DATE:20251126
DTEND;VALUE=DATE:20251127
DTSTAMP:20260421T105652
CREATED:20250820T170317Z
LAST-MODIFIED:20250820T170317Z
UID:9662-1764115200-1764201599@foundationacad.org
SUMMARY:No School for Students - Professional Development Day
DESCRIPTION:
URL:https://foundationacad.org/event/no-school-students-professional-development-day-3/
LOCATION:Foundation Academy\, 1050 Wyandotte Avenue\, Mansfield\, OH\, 44906\, United States
CATEGORIES:Calendar Only
GEO:42.3074739;-83.3097442
X-APPLE-STRUCTURED-LOCATION;VALUE=URI;X-ADDRESS=Foundation Academy 1050 Wyandotte Avenue Mansfield OH 44906 United States;X-APPLE-RADIUS=500;X-TITLE=1050 Wyandotte Avenue:geo:-83.3097442,42.3074739
END:VEVENT
END:VCALENDAR