BEGIN:VCALENDAR
VERSION:2.0
PRODID:-//Foundation Academy - ECPv5.16.4//NONSGML v1.0//EN
CALSCALE:GREGORIAN
METHOD:PUBLISH
X-WR-CALNAME:Foundation Academy
X-ORIGINAL-URL:https://foundationacad.org
X-WR-CALDESC:Events for Foundation Academy
BEGIN:VTIMEZONE
TZID:America/New_York
BEGIN:DAYLIGHT
TZOFFSETFROM:-0500
TZOFFSETTO:-0400
TZNAME:EDT
DTSTART:20250309T070000
END:DAYLIGHT
BEGIN:STANDARD
TZOFFSETFROM:-0400
TZOFFSETTO:-0500
TZNAME:EST
DTSTART:20251102T060000
END:STANDARD
END:VTIMEZONE
BEGIN:VEVENT
DTSTART;TZID=America/New_York:20250513T170000
DTEND;TZID=America/New_York:20250513T183000
DTSTAMP:20260421T110145
CREATED:20250501T150829Z
LAST-MODIFIED:20250501T150829Z
UID:9558-1747155600-1747161000@foundationacad.org
SUMMARY:Kindergarten Carnival
DESCRIPTION:Join us at Foundation Academy Kindergarten Carnival and enroll your child for the fall! Enjoy a bounce house obstacle course\, balloon animals\, face painting\, and a book machine raffle. Meet the Principal\, kindergarten teachers\, Superintendent and go on a school tour.  \nRSVP Today: foundationacad.org/events
URL:https://foundationacad.org/event/kindergarten-carnival/
LOCATION:Foundation Academy\, 1050 Wyandotte Avenue\, Mansfield\, OH\, 44906\, United States
CATEGORIES:Calendar Only,Prospective Families, Events, Home
GEO:42.3074739;-83.3097442
X-APPLE-STRUCTURED-LOCATION;VALUE=URI;X-ADDRESS=Foundation Academy 1050 Wyandotte Avenue Mansfield OH 44906 United States;X-APPLE-RADIUS=500;X-TITLE=1050 Wyandotte Avenue:geo:-83.3097442,42.3074739
END:VEVENT
END:VCALENDAR