BEGIN:VCALENDAR
VERSION:2.0
PRODID:-//Foundation Academy - ECPv5.16.4//NONSGML v1.0//EN
CALSCALE:GREGORIAN
METHOD:PUBLISH
X-WR-CALNAME:Foundation Academy
X-ORIGINAL-URL:https://foundationacad.org
X-WR-CALDESC:Events for Foundation Academy
BEGIN:VTIMEZONE
TZID:America/New_York
BEGIN:DAYLIGHT
TZOFFSETFROM:-0500
TZOFFSETTO:-0400
TZNAME:EDT
DTSTART:20240310T070000
END:DAYLIGHT
BEGIN:STANDARD
TZOFFSETFROM:-0400
TZOFFSETTO:-0500
TZNAME:EST
DTSTART:20241103T060000
END:STANDARD
END:VTIMEZONE
BEGIN:VEVENT
DTSTART;TZID=America/New_York:20240927T130000
DTEND;TZID=America/New_York:20240927T150000
DTSTAMP:20260421T110729
CREATED:20240912T215524Z
LAST-MODIFIED:20240912T221802Z
UID:9346-1727442000-1727449200@foundationacad.org
SUMMARY:K-8 Open House
DESCRIPTION:Join us at open house to learn more about our school culture\, academics\, extracurricular programs\, and school services. Meet our staff\, tour our campus\, see the new greenhouse and meet our newest community partner Third Street Clinic.  \nRSVP Today! foundationacad.org/events
URL:https://foundationacad.org/event/k-8-open-house-2/
LOCATION:Foundation Academy\, 1050 Wyandotte Avenue\, Mansfield\, OH\, 44906\, United States
CATEGORIES:Calendar Only,Prospective Families, Events, Home
GEO:42.3074739;-83.3097442
X-APPLE-STRUCTURED-LOCATION;VALUE=URI;X-ADDRESS=Foundation Academy 1050 Wyandotte Avenue Mansfield OH 44906 United States;X-APPLE-RADIUS=500;X-TITLE=1050 Wyandotte Avenue:geo:-83.3097442,42.3074739
END:VEVENT
END:VCALENDAR